BEGIN:VCALENDAR
VERSION:2.0
PRODID:-//ANV Kempenland - ECPv5.14.1//NONSGML v1.0//EN
CALSCALE:GREGORIAN
METHOD:PUBLISH
X-WR-CALNAME:ANV Kempenland
X-ORIGINAL-URL:https://anvkempenland.nl
X-WR-CALDESC:Evenementen voor ANV Kempenland
BEGIN:VTIMEZONE
TZID:Europe/Paris
BEGIN:DAYLIGHT
TZOFFSETFROM:+0100
TZOFFSETTO:+0200
TZNAME:CEST
DTSTART:20160327T010000
END:DAYLIGHT
BEGIN:STANDARD
TZOFFSETFROM:+0200
TZOFFSETTO:+0100
TZNAME:CET
DTSTART:20161030T010000
END:STANDARD
END:VTIMEZONE
BEGIN:VEVENT
DTSTART;TZID=Europe/Paris:20160113T203000
DTEND;TZID=Europe/Paris:20160113T220000
DTSTAMP:20260422T121624
CREATED:20160105T232637Z
LAST-MODIFIED:20160105T232747Z
UID:1239-1452717000-1452722400@anvkempenland.nl
SUMMARY:20.30u Infoavond pilot Haghorst
DESCRIPTION:Waterschap de Dommel heeft in samenwerking met Collectief Midden Brabant een drietal Pilotgebieden in het leven geroepen waar op korte termijn subsidie ingezet wordt voor agrarisch Natuurbeheer\, de zg. ‘Blauwe Diensten’. Binnen Kempenland bieden zij de Pilot Haghorst aan. \nANV Kempenland kan u aanbevelen om deel te nemen aan deze pilot. Kom naar de bijeenkomst voor Informatie over de Pilot Haghorst. Uitnodiging volgt.
URL:https://anvkempenland.nl/event/20-30u-infoavond-pilot-haghorst/
END:VEVENT
END:VCALENDAR