BEGIN:VCALENDAR
VERSION:2.0
PRODID:-//ANV Kempenland - ECPv5.14.1//NONSGML v1.0//EN
CALSCALE:GREGORIAN
METHOD:PUBLISH
X-WR-CALNAME:ANV Kempenland
X-ORIGINAL-URL:https://anvkempenland.nl
X-WR-CALDESC:Evenementen voor ANV Kempenland
BEGIN:VTIMEZONE
TZID:Europe/Paris
BEGIN:DAYLIGHT
TZOFFSETFROM:+0100
TZOFFSETTO:+0200
TZNAME:CEST
DTSTART:20160327T010000
END:DAYLIGHT
BEGIN:STANDARD
TZOFFSETFROM:+0200
TZOFFSETTO:+0100
TZNAME:CET
DTSTART:20161030T010000
END:STANDARD
END:VTIMEZONE
BEGIN:VEVENT
DTSTART;TZID=Europe/Paris:20160427T080000
DTEND;TZID=Europe/Paris:20160427T170000
DTSTAMP:20260421T210657
CREATED:20160224T110226Z
LAST-MODIFIED:20160224T110226Z
UID:1386-1461744000-1461776400@anvkempenland.nl
SUMMARY:Deadline indienen gebiedscontracten ANLb 2017
DESCRIPTION:
URL:https://anvkempenland.nl/event/deadline-indienen-gebiedscontracten-anlb-2017/
END:VEVENT
END:VCALENDAR