BEGIN:VCALENDAR
VERSION:2.0
PRODID:-//ANV Kempenland - ECPv5.14.1//NONSGML v1.0//EN
CALSCALE:GREGORIAN
METHOD:PUBLISH
X-WR-CALNAME:ANV Kempenland
X-ORIGINAL-URL:https://anvkempenland.nl
X-WR-CALDESC:Evenementen voor ANV Kempenland
BEGIN:VTIMEZONE
TZID:Europe/Paris
BEGIN:DAYLIGHT
TZOFFSETFROM:+0100
TZOFFSETTO:+0200
TZNAME:CEST
DTSTART:20160327T010000
END:DAYLIGHT
BEGIN:STANDARD
TZOFFSETFROM:+0200
TZOFFSETTO:+0100
TZNAME:CET
DTSTART:20161030T010000
END:STANDARD
END:VTIMEZONE
BEGIN:VEVENT
DTSTART;TZID=Europe/Paris:20160127T203000
DTEND;TZID=Europe/Paris:20160127T223000
DTSTAMP:20260422T091140
CREATED:20151223T234015Z
LAST-MODIFIED:20160126T201032Z
UID:1215-1453926600-1453933800@anvkempenland.nl
SUMMARY:20:30u Info-avond ANLb 2016 en biomassaverwaarding
DESCRIPTION:ANV Kempenland en ZLTO organiseren gezamenlijk een avond om u te informeren over het nieuwe stelsel voor Agrarisch Natuur- en landschapsbeheer ANLb. \nAan bod komen de mogelijkheden die het nieuwe beleid u biedt\, welke vergoedingen er zijn voor aanleg-\, beheer en onderhoud van natuurlijke elementen op uw land en welke voorwaarden er gelden. \nDaarnaast is er aandacht voor het thema biomassaverwaarding: wat zijn de ideeen\, welke initiatieven zijn er al en wat kan dat voor u betekenen? \nDe avond vindt plaats in De Nieuwe Erf te Diessen. \nU krijgt begin januari een uitnodiging met het programma.
URL:https://anvkempenland.nl/event/info-avond-anlb-en-biomassaverwaarding/
LOCATION:De Nieuwe Erf\, Westerwijk 6\, Diessen\, 5087 KG\, Nederland
END:VEVENT
END:VCALENDAR