BEGIN:VCALENDAR
VERSION:2.0
PRODID:-//ANV Kempenland - ECPv5.14.1//NONSGML v1.0//EN
CALSCALE:GREGORIAN
METHOD:PUBLISH
X-WR-CALNAME:ANV Kempenland
X-ORIGINAL-URL:https://anvkempenland.nl
X-WR-CALDESC:Evenementen voor ANV Kempenland
BEGIN:VTIMEZONE
TZID:Europe/Paris
BEGIN:DAYLIGHT
TZOFFSETFROM:+0100
TZOFFSETTO:+0200
TZNAME:CEST
DTSTART:20160327T010000
END:DAYLIGHT
BEGIN:STANDARD
TZOFFSETFROM:+0200
TZOFFSETTO:+0100
TZNAME:CET
DTSTART:20161030T010000
END:STANDARD
END:VTIMEZONE
BEGIN:VEVENT
DTSTART;TZID=Europe/Paris:20160422T080000
DTEND;TZID=Europe/Paris:20160422T170000
DTSTAMP:20260421T222757
CREATED:20160224T224538Z
LAST-MODIFIED:20160224T232449Z
UID:1388-1461312000-1461344400@anvkempenland.nl
SUMMARY:Internationale dag van de Aarde: landelijke zaaidag voor bijenvoedsel
DESCRIPTION:Wat is een Bijenlint?\n\n\n\nAlle initiatieven voor bijen vormen samen een bijenlint. Een Bijenlint is dus een aaneenschakeling van initiatieven ter bevordering van de overlevingskansen van de bij. \nHet landelijke Bijenlint wil iedereen de informatie\, tips en ondersteuning bieden die nodig is om van Nederland weer een geschikte woonplaats voor bijen te maken. Daarbij kan iedereen\, zowel bedrijven als particulieren\, een belangrijke rol spelen. Iedere actie\, ieder bijenhotel of bijvriendelijke tuin\, kan op deze site worden weergegeven als een onderdeel van een lang lint aan mooie initiatieven. Een echt Bijenlint dus. \nBent u nieuwsgierig geworden of wilt u ook graag meedoen? Kijk dan vooral even rond op de site. En als u vragen heeft\, dan beantwoorden wij deze uiteraard graag! \nZaaiactie voor de bijen en vlinders op 22 april\, internationale dag van de aarde. Steun deze actie!
URL:https://anvkempenland.nl/event/internationale-dag-van-de-aarde-landelijke-zaaidag-voor-bijenvoedsel/
END:VEVENT
END:VCALENDAR