BEGIN:VCALENDAR
VERSION:2.0
PRODID:-//ANV Kempenland - ECPv5.14.1//NONSGML v1.0//EN
CALSCALE:GREGORIAN
METHOD:PUBLISH
X-WR-CALNAME:ANV Kempenland
X-ORIGINAL-URL:https://anvkempenland.nl
X-WR-CALDESC:Evenementen voor ANV Kempenland
BEGIN:VTIMEZONE
TZID:Europe/Paris
BEGIN:DAYLIGHT
TZOFFSETFROM:+0100
TZOFFSETTO:+0200
TZNAME:CEST
DTSTART:20160327T010000
END:DAYLIGHT
BEGIN:STANDARD
TZOFFSETFROM:+0200
TZOFFSETTO:+0100
TZNAME:CET
DTSTART:20161030T010000
END:STANDARD
END:VTIMEZONE
BEGIN:VEVENT
DTSTART;TZID=Europe/Paris:20161026T133000
DTEND;TZID=Europe/Paris:20161026T173000
DTSTAMP:20260421T190212
CREATED:20161002T114236Z
LAST-MODIFIED:20161002T125820Z
UID:1924-1477488600-1477503000@anvkempenland.nl
SUMMARY:Minisymposium bloemrijke plekken
DESCRIPTION:In de Reehorst in Ede een mini-symposium gehouden over het aanleggen van bloemrijke plekken. Welke ervaringen zijn er opgedaan bij de aanleg en het beheer van de idylles? Wat ging er goed\, wat ging er minder en wat hebben we ervan geleerd? De trekker van de  idylle in Almelo zal vertellen over hun ervaringen en vanuit de Cruydt-Hoeck\, leverancier van wilde bloemenzaden met veel ervaring in de ontwikkeling van bloemrijk grasland\, zal een presentatie worden verzorgd met concrete en praktische aanbevelingen waar je op moet letten bij aanleg en onderhoud van bloemrijk grasland. Ook zal door een aantal sprekers worden ingegaan op hoe je in je beheer rekening houdt met de eisen die vlinders en bijen stellen aan hun leefomgeving en over hoe je omwonenden en andere inwoners erbij betrekt. \nDeze middag is bedoeld voor alle mensen betrokken bij het idylleproject\, maar juist ook voor gemeenten en hoveniers die zelf de komende tijd aan de slag willen met bloemen voor vlinders\, bijen en mensen en zo willen zorgen voor meer kleur en biodiversiteit in de stad.
URL:https://anvkempenland.nl/event/minisymposium-bloemrijke-plekken/
LOCATION:reehorst\, Bennekomseweg 24 \, 6717 LM Ede
CATEGORIES:symposium
END:VEVENT
END:VCALENDAR