BEGIN:VCALENDAR
VERSION:2.0
PRODID:-//ANV Kempenland - ECPv5.14.1//NONSGML v1.0//EN
CALSCALE:GREGORIAN
METHOD:PUBLISH
X-WR-CALNAME:ANV Kempenland
X-ORIGINAL-URL:https://anvkempenland.nl
X-WR-CALDESC:Evenementen voor ANV Kempenland
BEGIN:VTIMEZONE
TZID:Europe/Paris
BEGIN:DAYLIGHT
TZOFFSETFROM:+0100
TZOFFSETTO:+0200
TZNAME:CEST
DTSTART:20160327T010000
END:DAYLIGHT
BEGIN:STANDARD
TZOFFSETFROM:+0200
TZOFFSETTO:+0100
TZNAME:CET
DTSTART:20161030T010000
END:STANDARD
END:VTIMEZONE
BEGIN:VEVENT
DTSTART;TZID=Europe/Paris:20161018T080000
DTEND;TZID=Europe/Paris:20161018T170000
DTSTAMP:20260421T160419
CREATED:20161018T182448Z
LAST-MODIFIED:20161019T183023Z
UID:1970-1476777600-1476810000@anvkempenland.nl
SUMMARY:Nominaties Kempentrofee worden bekendgemaakt
DESCRIPTION:
URL:https://anvkempenland.nl/event/nominatie-kempentrofee-worden-bekendgemaakt/
CATEGORIES:oproep
END:VEVENT
END:VCALENDAR