BEGIN:VCALENDAR
VERSION:2.0
PRODID:-//ANV Kempenland - ECPv5.14.1//NONSGML v1.0//EN
CALSCALE:GREGORIAN
METHOD:PUBLISH
X-WR-CALNAME:ANV Kempenland
X-ORIGINAL-URL:https://anvkempenland.nl
X-WR-CALDESC:Evenementen voor ANV Kempenland
BEGIN:VTIMEZONE
TZID:Europe/Paris
BEGIN:DAYLIGHT
TZOFFSETFROM:+0100
TZOFFSETTO:+0200
TZNAME:CEST
DTSTART:20160327T010000
END:DAYLIGHT
BEGIN:STANDARD
TZOFFSETFROM:+0200
TZOFFSETTO:+0100
TZNAME:CET
DTSTART:20161030T010000
END:STANDARD
END:VTIMEZONE
BEGIN:VEVENT
DTSTART;TZID=Europe/Paris:20161005T164500
DTEND;TZID=Europe/Paris:20161005T180000
DTSTAMP:20260421T130058
CREATED:20161002T104752Z
LAST-MODIFIED:20161002T130252Z
UID:1917-1475685900-1475690400@anvkempenland.nl
SUMMARY:Opening Lijsterven\, Eersel
DESCRIPTION:De gemeente Eersel nodigt u uit om de opening van het nieuw ingerichte Lijsterven bij te wonen. \nmeer info
URL:https://anvkempenland.nl/event/opening-lijsterven/
LOCATION:Rouwven\, wintelre
END:VEVENT
END:VCALENDAR