BEGIN:VCALENDAR
VERSION:2.0
PRODID:-//ANV Kempenland - ECPv5.14.1//NONSGML v1.0//EN
CALSCALE:GREGORIAN
METHOD:PUBLISH
X-WR-CALNAME:ANV Kempenland
X-ORIGINAL-URL:https://anvkempenland.nl
X-WR-CALDESC:Evenementen voor ANV Kempenland
BEGIN:VTIMEZONE
TZID:Europe/Paris
BEGIN:DAYLIGHT
TZOFFSETFROM:+0100
TZOFFSETTO:+0200
TZNAME:CEST
DTSTART:20160327T010000
END:DAYLIGHT
BEGIN:STANDARD
TZOFFSETFROM:+0200
TZOFFSETTO:+0100
TZNAME:CET
DTSTART:20161030T010000
END:STANDARD
END:VTIMEZONE
BEGIN:VEVENT
DTSTART;TZID=Europe/Paris:20160402T140000
DTEND;TZID=Europe/Paris:20160402T160000
DTSTAMP:20260422T025855
CREATED:20160329T185353Z
LAST-MODIFIED:20160329T185353Z
UID:1553-1459605600-1459612800@anvkempenland.nl
SUMMARY:Opening vrijloopkoestal Lagendijk
DESCRIPTION:Welkom in de bijzondere melkveestal waar transparantie en welzijn van de koeien voorop staan. \nklik op de link voor de uitnodiging \nΩ   Uitnodiging Open Dag Lagendijk 2 april
URL:https://anvkempenland.nl/event/opening-vrijloopkoestal-lagendijk/
LOCATION:Onbenoemde locatie\, Toekomstweg 6\, Diessen\, 5087TL
END:VEVENT
END:VCALENDAR