BEGIN:VCALENDAR
VERSION:2.0
PRODID:-//ANV Kempenland - ECPv5.14.1//NONSGML v1.0//EN
CALSCALE:GREGORIAN
METHOD:PUBLISH
X-WR-CALNAME:ANV Kempenland
X-ORIGINAL-URL:https://anvkempenland.nl
X-WR-CALDESC:Evenementen voor ANV Kempenland
BEGIN:VTIMEZONE
TZID:Europe/Paris
BEGIN:DAYLIGHT
TZOFFSETFROM:+0100
TZOFFSETTO:+0200
TZNAME:CEST
DTSTART:20160327T010000
END:DAYLIGHT
BEGIN:STANDARD
TZOFFSETFROM:+0200
TZOFFSETTO:+0100
TZNAME:CET
DTSTART:20161030T010000
END:STANDARD
END:VTIMEZONE
BEGIN:VEVENT
DTSTART;TZID=Europe/Paris:20160613T080000
DTEND;TZID=Europe/Paris:20160613T170000
DTSTAMP:20260421T125721
CREATED:20160613T070949Z
LAST-MODIFIED:20160613T074039Z
UID:1674-1465804800-1465837200@anvkempenland.nl
SUMMARY:Regionale ANV-dag 's Gravenpolder 9.45 -16.00u
DESCRIPTION:
URL:https://anvkempenland.nl/event/regionale-anvdag-s-gravenpolder-9-45-16-00u/
END:VEVENT
END:VCALENDAR