BEGIN:VCALENDAR
VERSION:2.0
PRODID:-//ANV Kempenland - ECPv5.14.1//NONSGML v1.0//EN
CALSCALE:GREGORIAN
METHOD:PUBLISH
X-WR-CALNAME:ANV Kempenland
X-ORIGINAL-URL:https://anvkempenland.nl
X-WR-CALDESC:Evenementen voor ANV Kempenland
BEGIN:VTIMEZONE
TZID:Europe/Paris
BEGIN:DAYLIGHT
TZOFFSETFROM:+0100
TZOFFSETTO:+0200
TZNAME:CEST
DTSTART:20160327T010000
END:DAYLIGHT
BEGIN:STANDARD
TZOFFSETFROM:+0200
TZOFFSETTO:+0100
TZNAME:CET
DTSTART:20161030T010000
END:STANDARD
END:VTIMEZONE
BEGIN:VEVENT
DTSTART;VALUE=DATE:20160925
DTEND;VALUE=DATE:20160926
DTSTAMP:20260421T113729
CREATED:20151223T223957Z
LAST-MODIFIED:20151223T223957Z
UID:1209-1474761600-1474847999@anvkempenland.nl
SUMMARY:Streekmarkt Eersel
DESCRIPTION:                                                                                                                               \nHet kempenmuseum ‘de Acht zaligheden’ organiseert jaarlijks een Natuurmarkt bij het museum. \nDeze vindt plaats in het laatste weekend van september. Dat wordt dus 25 september ! \nContact: 0497515649 / info@achtzaligheden.nl
URL:https://anvkempenland.nl/event/streekmarkt-eersel/
LOCATION:Museum ‘de Acht zaligheden’\, Kapelweg 2\, Eersel.  \, 5521JJ\, Nederland
END:VEVENT
END:VCALENDAR